BEGIN:VCALENDAR
VERSION:2.0
PRODID:-//KPFT - ECPv6.15.20//NONSGML v1.0//EN
CALSCALE:GREGORIAN
METHOD:PUBLISH
X-ORIGINAL-URL:https://kpft.org
X-WR-CALDESC:Events for KPFT
REFRESH-INTERVAL;VALUE=DURATION:PT1H
X-Robots-Tag:noindex
X-PUBLISHED-TTL:PT1H
BEGIN:VTIMEZONE
TZID:America/Chicago
BEGIN:DAYLIGHT
TZOFFSETFROM:-0600
TZOFFSETTO:-0500
TZNAME:CDT
DTSTART:20210314T080000
END:DAYLIGHT
BEGIN:STANDARD
TZOFFSETFROM:-0500
TZOFFSETTO:-0600
TZNAME:CST
DTSTART:20211107T070000
END:STANDARD
BEGIN:DAYLIGHT
TZOFFSETFROM:-0600
TZOFFSETTO:-0500
TZNAME:CDT
DTSTART:20220313T080000
END:DAYLIGHT
BEGIN:STANDARD
TZOFFSETFROM:-0500
TZOFFSETTO:-0600
TZNAME:CST
DTSTART:20221106T070000
END:STANDARD
BEGIN:DAYLIGHT
TZOFFSETFROM:-0600
TZOFFSETTO:-0500
TZNAME:CDT
DTSTART:20230312T080000
END:DAYLIGHT
BEGIN:STANDARD
TZOFFSETFROM:-0500
TZOFFSETTO:-0600
TZNAME:CST
DTSTART:20231105T070000
END:STANDARD
END:VTIMEZONE
BEGIN:VEVENT
DTSTART;VALUE=DATE:20221022
DTEND;VALUE=DATE:20221024
DTSTAMP:20260421T221846
CREATED:20221018T192442Z
LAST-MODIFIED:20221018T192442Z
UID:963-1666396800-1666569599@kpft.org
SUMMARY:Roktoberfest at Cottonwood
DESCRIPTION:Oktoberfest but make it Rock n’ Roll Cottonwood is celebrating it’s 10 YEAR Anniversary with a ROKTOBER fest on October 22nd & 23rd and its benefitting KPFT! with some partying German-style with a 2-day festival of beer\, live music\, eating contest & vendors.\n\n\nPull out your dirndl & lederhosen – there will be prizes for Best Dressed!\n\n\nLIVE MUSIC by:\nSaturday:\n\nJohn Curry\nThe Dirty Reckless\n\nSunday: @theslagshouston\n\n\n\nEating Contest\n@bossamarket vendors\nKids Welcome until 9PM\nPet-Friendly\n\n\nFree commemorative Cottonwood 10-Year Anniversary pint glass with first draft beer purchase.\n\n\n\nA 90.1 KPFT Benefit sponsored by @slanewhiskey & @saintarnoldbrewing.
URL:https://kpft.org/event/roktoberfest-at-cottonwood/
LOCATION:Cottonwood Houston\, 3422 N Shepherd Dr\, Houston\, TX\, 77018\, United States
ATTACH;FMTTYPE=image/jpeg:https://kpft.org/wp-content/uploads/2022/10/311101766_5457999590963183_380529106127840360_n-1.jpg
END:VEVENT
END:VCALENDAR