BEGIN:VCALENDAR
VERSION:2.0
PRODID:-//KPFT - ECPv6.15.20//NONSGML v1.0//EN
CALSCALE:GREGORIAN
METHOD:PUBLISH
X-ORIGINAL-URL:https://kpft.org
X-WR-CALDESC:Events for KPFT
REFRESH-INTERVAL;VALUE=DURATION:PT1H
X-Robots-Tag:noindex
X-PUBLISHED-TTL:PT1H
BEGIN:VTIMEZONE
TZID:America/Chicago
BEGIN:DAYLIGHT
TZOFFSETFROM:-0600
TZOFFSETTO:-0500
TZNAME:CDT
DTSTART:20240310T080000
END:DAYLIGHT
BEGIN:STANDARD
TZOFFSETFROM:-0500
TZOFFSETTO:-0600
TZNAME:CST
DTSTART:20241103T070000
END:STANDARD
BEGIN:DAYLIGHT
TZOFFSETFROM:-0600
TZOFFSETTO:-0500
TZNAME:CDT
DTSTART:20250309T080000
END:DAYLIGHT
BEGIN:STANDARD
TZOFFSETFROM:-0500
TZOFFSETTO:-0600
TZNAME:CST
DTSTART:20251102T070000
END:STANDARD
BEGIN:DAYLIGHT
TZOFFSETFROM:-0600
TZOFFSETTO:-0500
TZNAME:CDT
DTSTART:20260308T080000
END:DAYLIGHT
BEGIN:STANDARD
TZOFFSETFROM:-0500
TZOFFSETTO:-0600
TZNAME:CST
DTSTART:20261101T070000
END:STANDARD
END:VTIMEZONE
BEGIN:VEVENT
DTSTART;TZID=America/Chicago:20250504T110000
DTEND;TZID=America/Chicago:20250504T140000
DTSTAMP:20260419T164307
CREATED:20250427T174811Z
LAST-MODIFIED:20250427T174811Z
UID:2541-1746356400-1746367200@kpft.org
SUMMARY:KPFT Blues Funday in the Park
DESCRIPTION:Come meet and play with other KPFT listeners and volunteers\, listen to some of the best blues music in the world\, picnic\, and share your stories and hopes for the station on the open mic. \nBring your lawn chairs\, picnic lunch\, frisbees and hula hoops\, chess board and lawn games to the most beautiful park in Houston\, Mandell Park\, at the corner of Richmond and Mandell in the heart of Montrose.  Free admission. \n 
URL:https://kpft.org/event/kpft-blues-funday-in-the-park/
LOCATION:Mandell Park\, 4399 Mandell St\, Houston\, TX\, United States
CATEGORIES:Festival
ATTACH;FMTTYPE=image/jpeg:https://kpft.org/wp-content/uploads/2025/04/41490519_8898130-e1745775761599.jpg
ORGANIZER;CN="KPFT":MAILTO:membership@kpft.org
END:VEVENT
END:VCALENDAR