BEGIN:VCALENDAR
VERSION:2.0
PRODID:-//KPFT - ECPv6.15.20//NONSGML v1.0//EN
CALSCALE:GREGORIAN
METHOD:PUBLISH
X-ORIGINAL-URL:https://kpft.org
X-WR-CALDESC:Events for KPFT
REFRESH-INTERVAL;VALUE=DURATION:PT1H
X-Robots-Tag:noindex
X-PUBLISHED-TTL:PT1H
BEGIN:VTIMEZONE
TZID:America/Chicago
BEGIN:DAYLIGHT
TZOFFSETFROM:-0600
TZOFFSETTO:-0500
TZNAME:CDT
DTSTART:20240310T080000
END:DAYLIGHT
BEGIN:STANDARD
TZOFFSETFROM:-0500
TZOFFSETTO:-0600
TZNAME:CST
DTSTART:20241103T070000
END:STANDARD
BEGIN:DAYLIGHT
TZOFFSETFROM:-0600
TZOFFSETTO:-0500
TZNAME:CDT
DTSTART:20250309T080000
END:DAYLIGHT
BEGIN:STANDARD
TZOFFSETFROM:-0500
TZOFFSETTO:-0600
TZNAME:CST
DTSTART:20251102T070000
END:STANDARD
BEGIN:DAYLIGHT
TZOFFSETFROM:-0600
TZOFFSETTO:-0500
TZNAME:CDT
DTSTART:20260308T080000
END:DAYLIGHT
BEGIN:STANDARD
TZOFFSETFROM:-0500
TZOFFSETTO:-0600
TZNAME:CST
DTSTART:20261101T070000
END:STANDARD
END:VTIMEZONE
BEGIN:VEVENT
DTSTART;TZID=America/Chicago:20250529T133000
DTEND;TZID=America/Chicago:20250529T170000
DTSTAMP:20260419T182857
CREATED:20250427T180659Z
LAST-MODIFIED:20250427T180659Z
UID:2548-1748525400-1748538000@kpft.org
SUMMARY:Donate Blood at KPFT with the Gulf Coast Regional Blood Center
DESCRIPTION:We hope to see you here at 4504 Caroline Street on Thursday\, May 29th\, from 1:30 to 5pm to meet the Gulf Coast Regional Blood Center’s team that collects donated blood from people like KPFT listeners. \nClick this link  to make your appointment. Walk-ins are also welcome on Thursday! \nDonors who give blood in May will receive a free beach towel and A1c blood screening a special thank you for helping patients in local hospitals. \nKPFT is committed to serving the community in this (and other ways) throughout the year. Each donation of whole blood helps out 3 people. Sign up today!
URL:https://kpft.org/event/donate-blood-at-kpft-with-the-gulf-coast-regional-blood-center/
LOCATION:4506 Caroline st next door to KPFT studios\, 4506 Caroline St\, Houston\, TX\, 77004\, United States
ATTACH;FMTTYPE=image/jpeg:https://kpft.org/wp-content/uploads/2025/04/KPFT-1-e1745777026110.jpg
END:VEVENT
END:VCALENDAR